BEGIN:VCALENDAR
VERSION:2.0
PRODID:-//Irma Hindriks - ECPv6.8.3//NONSGML v1.0//EN
CALSCALE:GREGORIAN
METHOD:PUBLISH
X-ORIGINAL-URL:https://irmahindriks.nl
X-WR-CALDESC:Evenementen voor Irma Hindriks
REFRESH-INTERVAL;VALUE=DURATION:PT1H
X-Robots-Tag:noindex
X-PUBLISHED-TTL:PT1H
BEGIN:VTIMEZONE
TZID:Europe/Amsterdam
BEGIN:DAYLIGHT
TZOFFSETFROM:+0100
TZOFFSETTO:+0200
TZNAME:CEST
DTSTART:20250330T010000
END:DAYLIGHT
BEGIN:STANDARD
TZOFFSETFROM:+0200
TZOFFSETTO:+0100
TZNAME:CET
DTSTART:20251026T010000
END:STANDARD
END:VTIMEZONE
BEGIN:VEVENT
DTSTART;TZID=Europe/Amsterdam:20250416T193000
DTEND;TZID=Europe/Amsterdam:20250416T203000
DTSTAMP:20260419T193644
CREATED:20250217T114227Z
LAST-MODIFIED:20250217T114457Z
UID:1046-1744831800-1744835400@irmahindriks.nl
SUMMARY:Webinar Taal in spel 16 April  1930-20.30 uur €27\,95 excl btw
DESCRIPTION:Wil je meer communicatie (taal) in het spel in de hoeken? \nWil je dat er meer gepraat en beter gespeeld wordt? Dan is deze webinar iets voor jou! \nJe leert spelscripts te ontwerpen en te tekenen. Na afloop heb jij een of meer spelscripts klaar \nvoor jouw komende thema’s.
URL:https://irmahindriks.nl/event/webinar-taal-in-spel-16-april-1930-20-30-uur-e2795-excl-btw/
END:VEVENT
END:VCALENDAR