BEGIN:VCALENDAR
VERSION:2.0
PRODID:-//Irma Hindriks - ECPv6.8.3//NONSGML v1.0//EN
CALSCALE:GREGORIAN
METHOD:PUBLISH
X-WR-CALNAME:Irma Hindriks
X-ORIGINAL-URL:https://irmahindriks.nl
X-WR-CALDESC:Evenementen voor Irma Hindriks
REFRESH-INTERVAL;VALUE=DURATION:PT1H
X-Robots-Tag:noindex
X-PUBLISHED-TTL:PT1H
BEGIN:VTIMEZONE
TZID:Europe/Amsterdam
BEGIN:DAYLIGHT
TZOFFSETFROM:+0100
TZOFFSETTO:+0200
TZNAME:CEST
DTSTART:20250330T010000
END:DAYLIGHT
BEGIN:STANDARD
TZOFFSETFROM:+0200
TZOFFSETTO:+0100
TZNAME:CET
DTSTART:20251026T010000
END:STANDARD
END:VTIMEZONE
BEGIN:VEVENT
DTSTART;TZID=Europe/Amsterdam:20250530T080000
DTEND;TZID=Europe/Amsterdam:20250530T170000
DTSTAMP:20260419T164306
CREATED:20250530T103518Z
LAST-MODIFIED:20250531T174222Z
UID:1135-1748592000-1748624400@irmahindriks.nl
SUMMARY:Webinar Taal in Spel. Woensdag 2 Juli 2025 19.30-20.30 uur. Leer spelscripts ontwerpen én tekenen! Teken je mee?
DESCRIPTION:
URL:https://irmahindriks.nl/event/webinar-taal-in-spel-woensdag-2-juli-2025-19-30-20-30-uur-leer-spelscripts-ontwerpen-en-tekenen/
END:VEVENT
END:VCALENDAR