BEGIN:VCALENDAR
VERSION:2.0
PRODID:-//Irma Hindriks - ECPv6.8.3//NONSGML v1.0//EN
CALSCALE:GREGORIAN
METHOD:PUBLISH
X-WR-CALNAME:Irma Hindriks
X-ORIGINAL-URL:https://irmahindriks.nl
X-WR-CALDESC:Evenementen voor Irma Hindriks
REFRESH-INTERVAL;VALUE=DURATION:PT1H
X-Robots-Tag:noindex
X-PUBLISHED-TTL:PT1H
BEGIN:VTIMEZONE
TZID:Europe/Amsterdam
BEGIN:DAYLIGHT
TZOFFSETFROM:+0100
TZOFFSETTO:+0200
TZNAME:CEST
DTSTART:20250330T010000
END:DAYLIGHT
BEGIN:STANDARD
TZOFFSETFROM:+0200
TZOFFSETTO:+0100
TZNAME:CET
DTSTART:20251026T010000
END:STANDARD
END:VTIMEZONE
BEGIN:VEVENT
DTSTART;TZID=Europe/Amsterdam:20250702T193000
DTEND;TZID=Europe/Amsterdam:20250702T203000
DTSTAMP:20260419T151640
CREATED:20250606T072317Z
LAST-MODIFIED:20250606T073108Z
UID:1139-1751484600-1751488200@irmahindriks.nl
SUMMARY:Webinar Taal in spel Woensdag 2 Juli 2025 19.30-20.30uur €27\,95 excl btw
DESCRIPTION:In deze webinar leer je spelscripts ontwerpen en tekenen. Ik deel veel praktijkvoorbeelden met je ter inspiratie en natuurlijk ga je zelf ook tekenen. Na afloop heb je enkele spelscripts voor jouw volgende thema(s) klaar! Teken je mee?
URL:https://irmahindriks.nl/event/webinar-taal-in-spel-woensdag-2-juli-2025-19-30-20-30uur-e2795-excl-btw/
END:VEVENT
END:VCALENDAR