BEGIN:VCALENDAR
VERSION:2.0
PRODID:-//Irma Hindriks - ECPv6.8.3//NONSGML v1.0//EN
CALSCALE:GREGORIAN
METHOD:PUBLISH
X-WR-CALNAME:Irma Hindriks
X-ORIGINAL-URL:https://irmahindriks.nl
X-WR-CALDESC:Evenementen voor Irma Hindriks
REFRESH-INTERVAL;VALUE=DURATION:PT1H
X-Robots-Tag:noindex
X-PUBLISHED-TTL:PT1H
BEGIN:VTIMEZONE
TZID:Europe/Amsterdam
BEGIN:DAYLIGHT
TZOFFSETFROM:+0100
TZOFFSETTO:+0200
TZNAME:CEST
DTSTART:20240331T010000
END:DAYLIGHT
BEGIN:STANDARD
TZOFFSETFROM:+0200
TZOFFSETTO:+0100
TZNAME:CET
DTSTART:20241027T010000
END:STANDARD
END:VTIMEZONE
BEGIN:VEVENT
DTSTART;TZID=Europe/Amsterdam:20241003T190000
DTEND;TZID=Europe/Amsterdam:20241003T210000
DTSTAMP:20260420T034407
CREATED:20240920T120535Z
LAST-MODIFIED:20240920T120535Z
UID:959-1727982000-1727989200@irmahindriks.nl
SUMMARY:Online startworkshop Ondersteunend Tekenen  donderdag 3 Oktober
DESCRIPTION:Een 2 uur durende praktische\, inspirerende en interactieve workshop. \nInformatie\, inspiratie uit praktijkvoorbeelden en natuurlijk zelf tekenen! \nLees meer onder het kopje ;aanbod
URL:https://irmahindriks.nl/event/online-startworkshop-ondersteunend-tekenen-donderdag-3-oktober/
END:VEVENT
END:VCALENDAR