BEGIN:VCALENDAR
VERSION:2.0
PRODID:-//Irma Hindriks - ECPv6.8.3//NONSGML v1.0//EN
CALSCALE:GREGORIAN
METHOD:PUBLISH
X-WR-CALNAME:Irma Hindriks
X-ORIGINAL-URL:https://irmahindriks.nl
X-WR-CALDESC:Evenementen voor Irma Hindriks
REFRESH-INTERVAL;VALUE=DURATION:PT1H
X-Robots-Tag:noindex
X-PUBLISHED-TTL:PT1H
BEGIN:VTIMEZONE
TZID:Europe/Amsterdam
BEGIN:DAYLIGHT
TZOFFSETFROM:+0100
TZOFFSETTO:+0200
TZNAME:CEST
DTSTART:20250330T010000
END:DAYLIGHT
BEGIN:STANDARD
TZOFFSETFROM:+0200
TZOFFSETTO:+0100
TZNAME:CET
DTSTART:20251026T010000
END:STANDARD
END:VTIMEZONE
BEGIN:VEVENT
DTSTART;TZID=Europe/Amsterdam:20250224T200000
DTEND;TZID=Europe/Amsterdam:20250224T204500
DTSTAMP:20260419T212439
CREATED:20240920T121312Z
LAST-MODIFIED:20250217T084626Z
UID:963-1740427200-1740429900@irmahindriks.nl
SUMMARY:Online tekeninspiratiesessie Lente /Pasen maandag 24 Februari 2024 €24\,95 excl.btw
DESCRIPTION:In deze tekeninspiratiesssie tekenen we woorden en begrippen passend bij de lente en Pasen. \nSamen tekenen en leren van en met elkaar. Ik teken mee en jij kijkt mee op mijn tekenblok. \nInspirerend\, praktisch en heel leuk!
URL:https://irmahindriks.nl/event/online-tekeninspiratiesessie-lente-pasen-maandag-24-februari-2024/
END:VEVENT
END:VCALENDAR