BEGIN:VCALENDAR
VERSION:2.0
PRODID:-//Irma Hindriks - ECPv6.8.3//NONSGML v1.0//EN
CALSCALE:GREGORIAN
METHOD:PUBLISH
X-ORIGINAL-URL:https://irmahindriks.nl
X-WR-CALDESC:Evenementen voor Irma Hindriks
REFRESH-INTERVAL;VALUE=DURATION:PT1H
X-Robots-Tag:noindex
X-PUBLISHED-TTL:PT1H
BEGIN:VTIMEZONE
TZID:Europe/Amsterdam
BEGIN:DAYLIGHT
TZOFFSETFROM:+0100
TZOFFSETTO:+0200
TZNAME:CEST
DTSTART:20250330T010000
END:DAYLIGHT
BEGIN:STANDARD
TZOFFSETFROM:+0200
TZOFFSETTO:+0100
TZNAME:CET
DTSTART:20251026T010000
END:STANDARD
END:VTIMEZONE
BEGIN:VEVENT
DTSTART;TZID=Europe/Amsterdam:20250310T193000
DTEND;TZID=Europe/Amsterdam:20250310T203000
DTSTAMP:20260419T195208
CREATED:20250112T171155Z
LAST-MODIFIED:20250217T083703Z
UID:978-1741635000-1741638600@irmahindriks.nl
SUMMARY:Webinar Taal in spel 10 Maart 19.30-20.30 uur €27\,95 excl btw.
DESCRIPTION:Wil je meer communicatie(taal)  in het spel in de hoeken? \nWil je dat er meer gepraat wordt en beter gespeeld wordt? Dan is deze webinar iets voor jou! \nJe leert spelscripts ontwerpen en tekenen. Na afloop heb je een (of meer) spelcripts klaar voor jouw volgende thema’s.
URL:https://irmahindriks.nl/event/webinar-taal-in-spel-10-maart-19-30-20-30-uur-e2795-excl-btw-2/
END:VEVENT
END:VCALENDAR